BEGIN:VCALENDAR
VERSION:2.0
PRODID:-//AJCAM - ECPv6.7.0//NONSGML v1.0//EN
CALSCALE:GREGORIAN
METHOD:PUBLISH
X-ORIGINAL-URL:https://ajcam.org
X-WR-CALDESC:Évènements pour AJCAM
REFRESH-INTERVAL;VALUE=DURATION:PT1H
X-Robots-Tag:noindex
X-PUBLISHED-TTL:PT1H
BEGIN:VTIMEZONE
TZID:Europe/Paris
BEGIN:DAYLIGHT
TZOFFSETFROM:+0100
TZOFFSETTO:+0200
TZNAME:CEST
DTSTART:20240331T010000
END:DAYLIGHT
BEGIN:STANDARD
TZOFFSETFROM:+0200
TZOFFSETTO:+0100
TZNAME:CET
DTSTART:20241027T010000
END:STANDARD
END:VTIMEZONE
BEGIN:VEVENT
DTSTART;VALUE=DATE:20241126
DTEND;VALUE=DATE:20241127
DTSTAMP:20260421T113922
CREATED:20240604T124630Z
LAST-MODIFIED:20250211T165553Z
UID:38044-1732579200-1732579200@ajcam.org
SUMMARY:VOYAGE DE PRESSE SFPR
DESCRIPTION:
URL:https://ajcam.org/evenement/voyage-de-presse-sfpr/
CATEGORIES:Voyage de presse
END:VEVENT
BEGIN:VEVENT
DTSTART;TZID=Europe/Paris:20240604T090000
DTEND;TZID=Europe/Paris:20240605T170000
DTSTAMP:20260421T113922
CREATED:20240604T124625Z
LAST-MODIFIED:20240604T133319Z
UID:38007-1717491600-1717606800@ajcam.org
SUMMARY:Voyage de presse Carrier
DESCRIPTION:Visite des usines de production dans l’Ain
URL:https://ajcam.org/evenement/voyage-de-presse-carrier/
CATEGORIES:Voyage de presse
END:VEVENT
BEGIN:VEVENT
DTSTART;TZID=Europe/Paris:20240612T150000
DTEND;TZID=Europe/Paris:20240613T170000
DTSTAMP:20260421T113922
CREATED:20240604T124625Z
LAST-MODIFIED:20240604T132137Z
UID:38012-1718204400-1718298000@ajcam.org
SUMMARY:Voyage de presse Bieber
DESCRIPTION:
URL:https://ajcam.org/evenement/voyage-de-presse-bieber/
LOCATION:Nice\, Nice\, France
CATEGORIES:Voyage de presse
END:VEVENT
BEGIN:VEVENT
DTSTART;TZID=Europe/Paris:20240618T080000
DTEND;TZID=Europe/Paris:20240619T200000
DTSTAMP:20260421T113922
CREATED:20240604T124625Z
LAST-MODIFIED:20240604T131450Z
UID:38015-1718697600-1718827200@ajcam.org
SUMMARY:Visite usines Soler et Palau
DESCRIPTION:
URL:https://ajcam.org/evenement/visite-usines-soler-et-palau/
LOCATION:Barcelone\, Barcelone\, Espagne
CATEGORIES:Voyage de presse
END:VEVENT
END:VCALENDAR